BEGIN:VCALENDAR
VERSION:2.0
PRODID:-//Triathlon Manitoba - ECPv4.9.14//NONSGML v1.0//EN
CALSCALE:GREGORIAN
METHOD:PUBLISH
X-WR-CALNAME:Triathlon Manitoba
X-ORIGINAL-URL:https://www.triathlonmanitoba.ca
X-WR-CALDESC:Events for Triathlon Manitoba
BEGIN:VTIMEZONE
TZID:America/Winnipeg
BEGIN:DAYLIGHT
TZOFFSETFROM:-0600
TZOFFSETTO:-0500
TZNAME:CDT
DTSTART:20250309T080000
END:DAYLIGHT
BEGIN:STANDARD
TZOFFSETFROM:-0500
TZOFFSETTO:-0600
TZNAME:CST
DTSTART:20251102T070000
END:STANDARD
END:VTIMEZONE
BEGIN:VEVENT
DTSTART;VALUE=DATE:20250427
DTEND;VALUE=DATE:20250428
DTSTAMP:20260422T085121
CREATED:20250312T202547Z
LAST-MODIFIED:20250425T194925Z
UID:15208-1745712000-1745798399@www.triathlonmanitoba.ca
SUMMARY:2025 Officials Clinic
DESCRIPTION:Officials play an integral part in our races\, these amazing volunteers ensure races are safe\, fair and well run! Join us for a day of learning\, engagement\, and fun.\n\n\n\n\nSunday\, April 27th\n9:00 am to Noon – Officials Level 1 course and refresher.   For all new and returning Level 1 Officials\n\nNoon to 1:30 pm – Lunch (provided!) and Spring meeting for all new and returning Officials\n\n1:30 to 4:00 pm – Officials Level 2 course and refresher.\n\n\n\n\nREGISTER\n\n\n\n\n\n\n
URL:https://www.triathlonmanitoba.ca/event/2025-officials-clinic/
LOCATION:Sport Manitoba Building\, 145 Pacific Avenue\, Winnipeg\, Manitoba\, R3B 2Z6\, Canada
ATTACH;FMTTYPE=image/jpeg:https://www.triathlonmanitoba.ca/wp-content/uploads/2017-TriMb-Logo-e1552411818925.jpg
END:VEVENT
END:VCALENDAR