BEGIN:VCALENDAR
VERSION:2.0
PRODID:-//Triathlon Manitoba - ECPv4.9.14//NONSGML v1.0//EN
CALSCALE:GREGORIAN
METHOD:PUBLISH
X-WR-CALNAME:Triathlon Manitoba
X-ORIGINAL-URL:https://www.triathlonmanitoba.ca
X-WR-CALDESC:Events for Triathlon Manitoba
BEGIN:VTIMEZONE
TZID:America/Winnipeg
BEGIN:DAYLIGHT
TZOFFSETFROM:-0600
TZOFFSETTO:-0500
TZNAME:CDT
DTSTART:20180311T080000
END:DAYLIGHT
BEGIN:STANDARD
TZOFFSETFROM:-0500
TZOFFSETTO:-0600
TZNAME:CST
DTSTART:20181104T070000
END:STANDARD
END:VTIMEZONE
BEGIN:VEVENT
DTSTART;VALUE=DATE:20180529
DTEND;VALUE=DATE:20180531
DTSTAMP:20260423T104809
CREATED:20180223T231410Z
LAST-MODIFIED:20180503T190334Z
UID:6501-1527555600-1527641999@www.triathlonmanitoba.ca
SUMMARY:Birds Hill Duathlon Series
DESCRIPTION:Distances: \nKOS Short: 200M Run\, 2k Bike\, 400M Run \nKOS Long: 400M Run\, 13k Bike\, 2k Run \nAdult Short: 2k Run\, 13k Bike\, 2k Run \nAdult Long: 4k Run\, 24k Bike\, 4k Run \n  \nRegister Here!\n
URL:https://www.triathlonmanitoba.ca/event/birds-hill-duathlon-series-2018-05-29/
LOCATION:Birds Hill Park – East Beach\, East Beach Parking Lot\, Birds Hill Park\, Oakbank\, Manitoba\, R0E 1J0\, Canada
END:VEVENT
END:VCALENDAR