BEGIN:VCALENDAR
VERSION:2.0
PRODID:-//Triathlon Manitoba - ECPv4.9.14//NONSGML v1.0//EN
CALSCALE:GREGORIAN
METHOD:PUBLISH
X-WR-CALNAME:Triathlon Manitoba
X-ORIGINAL-URL:https://www.triathlonmanitoba.ca
X-WR-CALDESC:Events for Triathlon Manitoba
BEGIN:VTIMEZONE
TZID:America/Winnipeg
BEGIN:DAYLIGHT
TZOFFSETFROM:-0600
TZOFFSETTO:-0500
TZNAME:CDT
DTSTART:20180311T080000
END:DAYLIGHT
BEGIN:STANDARD
TZOFFSETFROM:-0500
TZOFFSETTO:-0600
TZNAME:CST
DTSTART:20181104T070000
END:STANDARD
END:VTIMEZONE
BEGIN:VEVENT
DTSTART;VALUE=DATE:20180825
DTEND;VALUE=DATE:20180826
DTSTAMP:20260423T085447
CREATED:20180420T185513Z
LAST-MODIFIED:20180605T192831Z
UID:7385-1535155200-1535241599@www.triathlonmanitoba.ca
SUMMARY:Pinawa Challenge Cross Triathlon
DESCRIPTION:\n1:00 pm OPEN WATER 3k\n1:00 pm Ultra Challenge: combine with 3k swim\, 15k bike\, & 4k trail run\n2:00 pm OPEN WATER 1.5k\n2:00 pm Super Challenge: combine with 1.5k swim\, 15k bike\, & 4k trail run\n2:30 pm OPEN WATER 750m\n2:30 pm Pinawa Challenge: combine with 750m swim\, 10k bike\, & 3k trail run\n3:00 pm OPEN WATER 400M\n3:00 pm Challenge: combine with 400m swim\, 6k bike\, & 2k trail run\n***\n1:00 p.m. Ultra Challenge Duathlon 4k run\, 15 k bike\, & 4k run\n2:00 p.m. Super Challenge Duathlon 2k run\, 10k bike\, & 3k run\n1:00 p.m. Ultra Aquathlon 3k swim & 4k trail run\n2:00 p.m. Super Aquathlon 1.5k swim & 4k trail run\n2:30 p.m. Pinawa Aquathlon 750m swim & 2k trail run\n\n  \nRegister Here!\n  \n
URL:https://www.triathlonmanitoba.ca/event/pinawa-challenge-cross-triathlon/
LOCATION:Pinawa Sailing Beach\, Willis Dr\, Pinawa\, Manitoba\, R0E 1L0\, Canada
ORGANIZER;CN="Wanda%20Mathers":MAILTO:wandamathers@hotmail.com
END:VEVENT
END:VCALENDAR