BEGIN:VCALENDAR
VERSION:2.0
PRODID:-//Triathlon Manitoba - ECPv4.9.14//NONSGML v1.0//EN
CALSCALE:GREGORIAN
METHOD:PUBLISH
X-WR-CALNAME:Triathlon Manitoba
X-ORIGINAL-URL:https://www.triathlonmanitoba.ca
X-WR-CALDESC:Events for Triathlon Manitoba
BEGIN:VTIMEZONE
TZID:America/Winnipeg
BEGIN:DAYLIGHT
TZOFFSETFROM:-0600
TZOFFSETTO:-0500
TZNAME:CDT
DTSTART:20180311T080000
END:DAYLIGHT
BEGIN:STANDARD
TZOFFSETFROM:-0500
TZOFFSETTO:-0600
TZNAME:CST
DTSTART:20181104T070000
END:STANDARD
END:VTIMEZONE
BEGIN:VEVENT
DTSTART;VALUE=DATE:20180819
DTEND;VALUE=DATE:20180820
DTSTAMP:20260423T122545
CREATED:20180420T185022Z
LAST-MODIFIED:20180605T161831Z
UID:7379-1534636800-1534723199@www.triathlonmanitoba.ca
SUMMARY:Riding Mountain Kids of Steel
DESCRIPTION:Distances: \nAges 6-7 – 50m swim\, 1.5k bike\, 500m run\nAges 8-9 – 100m swim\, 5k bike\, 1k run\nAges 10-11 & 12-13 short distance – 200m swim\, 5k bike\, 2k run\nAges 12-13 long & 14-15 short distance – 300m swim\, 10k bike\, 3k run\nAges 14-15 long distance – 500m swim\, 10k bike\, 4k run \n  \nRegister Here!\n  \n
URL:https://www.triathlonmanitoba.ca/event/riding-mountain-kids-of-steel/
LOCATION:Riding Mountain National Park\, 135 Wasagaming Dr\, Onanole\, Manitoba\, R0J 1N0\, Canada
END:VEVENT
END:VCALENDAR