BEGIN:VCALENDAR
VERSION:2.0
PRODID:-//Triathlon Manitoba - ECPv4.9.14//NONSGML v1.0//EN
CALSCALE:GREGORIAN
METHOD:PUBLISH
X-WR-CALNAME:Triathlon Manitoba
X-ORIGINAL-URL:https://www.triathlonmanitoba.ca
X-WR-CALDESC:Events for Triathlon Manitoba
BEGIN:VTIMEZONE
TZID:America/Winnipeg
BEGIN:DAYLIGHT
TZOFFSETFROM:-0600
TZOFFSETTO:-0500
TZNAME:CDT
DTSTART:20180311T080000
END:DAYLIGHT
BEGIN:STANDARD
TZOFFSETFROM:-0500
TZOFFSETTO:-0600
TZNAME:CST
DTSTART:20181104T070000
END:STANDARD
END:VTIMEZONE
BEGIN:VEVENT
DTSTART;VALUE=DATE:20180818
DTEND;VALUE=DATE:20180819
DTSTAMP:20260423T141547
CREATED:20180420T184831Z
LAST-MODIFIED:20180508T224708Z
UID:7375-1534550400-1534636799@www.triathlonmanitoba.ca
SUMMARY:Riding Mountain Triathlon
DESCRIPTION:Register Here!\n
URL:https://www.triathlonmanitoba.ca/event/riding-mountain-triathlon/
LOCATION:Riding Mountain National Park\, 135 Wasagaming Dr\, Onanole\, Manitoba\, R0J 1N0\, Canada
END:VEVENT
END:VCALENDAR