BEGIN:VCALENDAR
VERSION:2.0
PRODID:-//Triathlon Manitoba - ECPv4.9.14//NONSGML v1.0//EN
CALSCALE:GREGORIAN
METHOD:PUBLISH
X-WR-CALNAME:Triathlon Manitoba
X-ORIGINAL-URL:https://www.triathlonmanitoba.ca
X-WR-CALDESC:Events for Triathlon Manitoba
BEGIN:VTIMEZONE
TZID:America/Winnipeg
BEGIN:DAYLIGHT
TZOFFSETFROM:-0600
TZOFFSETTO:-0500
TZNAME:CDT
DTSTART:20180311T080000
END:DAYLIGHT
BEGIN:STANDARD
TZOFFSETFROM:-0500
TZOFFSETTO:-0600
TZNAME:CST
DTSTART:20181104T070000
END:STANDARD
END:VTIMEZONE
BEGIN:VEVENT
DTSTART;TZID=America/Winnipeg:20180624T090000
DTEND;TZID=America/Winnipeg:20180624T180000
DTSTAMP:20260423T122203
CREATED:20180224T002525Z
LAST-MODIFIED:20180508T224254Z
UID:6520-1529830800-1529863200@www.triathlonmanitoba.ca
SUMMARY:St. Malo Kids of Steel | Tikes and Trikes
DESCRIPTION:Distances: \nAges 6-7 – 50m swim\, 1.5k bike\, 500m run\nAges 8-9 – 100m swim\, 5k bike\, 1k run\nAges 10-11 & 12-13 short distance – 200m swim\, 5k bike\, 2k run\nAges 12-13 long & 14-15 short distance – 300m swim\, 10k bike\, 3k run\nAges 14-15 long distance – 500m swim\, 10k bike\, 4k run \nRegister Here!\n
URL:https://www.triathlonmanitoba.ca/event/st-malo-kids-of-steel-tikes-and-trikes/
LOCATION:St. Malo Provincial Park\, De La Grotte Ave\, Saint Malo\, Manitoba\, R0A 1T0\, Canada
ORGANIZER;CN="Prairie%20Performance%20Triathlon":MAILTO:stmalotri@gmail.com
END:VEVENT
END:VCALENDAR