BEGIN:VCALENDAR
VERSION:2.0
PRODID:-//Triathlon Manitoba - ECPv4.9.14//NONSGML v1.0//EN
CALSCALE:GREGORIAN
METHOD:PUBLISH
X-WR-CALNAME:Triathlon Manitoba
X-ORIGINAL-URL:https://www.triathlonmanitoba.ca
X-WR-CALDESC:Events for Triathlon Manitoba
BEGIN:VTIMEZONE
TZID:America/Winnipeg
BEGIN:DAYLIGHT
TZOFFSETFROM:-0600
TZOFFSETTO:-0500
TZNAME:CDT
DTSTART:20180311T080000
END:DAYLIGHT
BEGIN:STANDARD
TZOFFSETFROM:-0500
TZOFFSETTO:-0600
TZNAME:CST
DTSTART:20181104T070000
END:STANDARD
END:VTIMEZONE
BEGIN:VEVENT
DTSTART;TZID=America/Winnipeg:20180623T090000
DTEND;TZID=America/Winnipeg:20180623T180000
DTSTAMP:20260423T103506
CREATED:20180224T002303Z
LAST-MODIFIED:20180508T224208Z
UID:6516-1529744400-1529776800@www.triathlonmanitoba.ca
SUMMARY:St. Malo Triathlon
DESCRIPTION:1500m Swim\, 40K Bike\, 10K Run\n750m Swim\, 20 K Bike\, 5K Run\n2.5 K Run\, 20 K Bike\, 5K Run\n300m Swim\, 10K Bike\, 2.5K Run\n1 K Run\, 10K Bike\, 2.5K Run\nAquabike Std. 1500m Swim\, 40K Bike\nAquabike Short 750m Swim\, 20K Bike \nRegister Here!\n  \n
URL:https://www.triathlonmanitoba.ca/event/st-malo-triathlon/
LOCATION:St. Malo Provincial Park\, De La Grotte Ave\, Saint Malo\, Manitoba\, R0A 1T0\, Canada
ORGANIZER;CN="Prairie%20Performance%20Triathlon":MAILTO:stmalotri@gmail.com
END:VEVENT
END:VCALENDAR