BEGIN:VCALENDAR
VERSION:2.0
PRODID:-//Triathlon Manitoba - ECPv4.9.14//NONSGML v1.0//EN
CALSCALE:GREGORIAN
METHOD:PUBLISH
X-WR-CALNAME:Triathlon Manitoba
X-ORIGINAL-URL:https://www.triathlonmanitoba.ca
X-WR-CALDESC:Events for Triathlon Manitoba
BEGIN:VTIMEZONE
TZID:America/Winnipeg
BEGIN:DAYLIGHT
TZOFFSETFROM:-0600
TZOFFSETTO:-0500
TZNAME:CDT
DTSTART:20190310T080000
END:DAYLIGHT
BEGIN:STANDARD
TZOFFSETFROM:-0500
TZOFFSETTO:-0600
TZNAME:CST
DTSTART:20191103T070000
END:STANDARD
END:VTIMEZONE
BEGIN:VEVENT
DTSTART;TZID=America/Winnipeg:20190609T070000
DTEND;TZID=America/Winnipeg:20190609T150000
DTSTAMP:20260420T083146
CREATED:20190322T192853Z
LAST-MODIFIED:20190514T164718Z
UID:9140-1560063600-1560092400@www.triathlonmanitoba.ca
SUMMARY:Triple Threat Triathlon
DESCRIPTION:\n\n\n\n\n\n\n\n\n\n\n\nThe Triple Threat Triathlon Race held at Birds Hill Park is the first local triathlon of the Manitoba season. The East Beach at Birds Hill Park is the start and end of the race.  The adult race is held on Sunday June 9 and is a great event to kick start your race season. With the comfort of the shallower lake\, a bike course around the park that does not have aggressive inclines and a gently rolling run course on paved\, and gravel bike paths around the lake. \nRegister for the Sunday June 9\, 2019 Triple Threat Triathlon by the early bird deadline (April 30th) and be entered into a draw to win your 2020 race registration. One winner will be announced via Facebook on May 1st! \n\nRace Kit Pickup is scheduled for Thursday\, June 6th from 5-8 pm at Little Brown Jug – 336 William Avenue (Exchange District). \n\n\n\n\n\n\n\n\n\n\n\n\n\n\n\n\n\nCategories\nEarly Bird to April 30\nRegular May 1 to May 31\nJune 1 – 3rd\n\n\nOlympic Triathlon\n1.5k Swim / 40k Bike (3 loops of the park) / 10k Run\n$65\n$75\n$85\n\n\nSprint Triathlon\n750m Swim / 26.6k Bike (2 loops of the park) / 5k Run\n$65\n$75\n$85\n\n\nTry A Tri\n300m Swim / 13.3k Bike (1 loop of the park) / 3k Run\n$30\n$30\n$30\n\n\nSprint Duathlon\n3k Run / 26.6k Bike (2 loops of the park) / 5k Run\n$65\n$75\n$85\n\n\nOlympic Aquabike\n1.5k Swim / 40k Bike (3 loops of the park)\n$65\n$75\n$85\n\n\nSprint Aquabike\n750m Swim / 26.6k Bike (2 loops of the park)\n$65\n$75\n$85\n\n\n\n  \n\n\n\n\n\n\n\n\n\n\n\n\n\nRegister Here\n  \n\n\n\n\n\n\n\n\n\n\n\n\n
URL:https://www.triathlonmanitoba.ca/event/triple-threat-triathlon/
LOCATION:Birds Hill Park – East Beach\, East Beach Parking Lot\, Birds Hill Park\, Oakbank\, Manitoba\, R0E 1J0\, Canada
ATTACH;FMTTYPE=image/jpeg:https://www.triathlonmanitoba.ca/wp-content/uploads/2019-Triple-Threat-Triathlon-Logo-e1553283022137.jpg
ORGANIZER;CN="Triple%20Threat%20Triathlon%20Club":MAILTO:triplethreatracedirector@gmail.com
END:VEVENT
END:VCALENDAR